BEGIN:VCALENDAR
VERSION:2.0
PRODID:-//ChamberMaster//Event Calendar 2.0//EN
METHOD:PUBLISH
X-PUBLISHED-TTL:P1H
REFRESH-INTERVAL:P1H
CALSCALE:GREGORIAN
BEGIN:VTIMEZONE
TZID:America/Chicago
BEGIN:DAYLIGHT
RRULE:FREQ=YEARLY;BYMONTH=3;BYDAY=2SU
DTSTART:20070101T000000
TZOFFSETFROM:-0600
TZOFFSETTO:-0500
TZNAME:Central Daylight Time
END:DAYLIGHT
BEGIN:STANDARD
RRULE:FREQ=YEARLY;BYMONTH=11;BYDAY=1SU
DTSTART:20070101T000000
TZOFFSETFROM:-0500
TZOFFSETTO:-0600
TZNAME:Central Standard Time
END:STANDARD
END:VTIMEZONE
BEGIN:VEVENT
DTSTART;TZID=America/Chicago:20260417T093000
DTEND;TZID=America/Chicago:20260417T110000
X-MICROSOFT-CDO-ALLDAYEVENT:FALSE
SUMMARY:The 7 Habits of Highly Connected People
DESCRIPTION:Join Minnesota State Moorhead for an inspiring session with entrepreneur\, mentor\, and philanthropist Najam Usmani as he shares powerful life lessons on the power of connections. Drawing from his journey\, from immigrating to the U.S. to building successful businesses and leading large teams\, Najam highlights how meaningful relationships\, resilience\, and a service-oriented mindset drive personal and professional success. \nAttendees will gain practical insights into cultivating a winning mindset\, building authentic networks\, and leveraging connections to create opportunities\, impact communities\, and achieve long-term success. This event is free and open to the public. Refreshments will be served.
X-ALT-DESC;FMTTYPE=text/html:Join Minnesota State Moorhead for an inspiring session with entrepreneur\, mentor\, and philanthropist Najam Usmani as he shares powerful life lessons on the power of connections. Drawing from his journey\, from immigrating to the U.S. to building successful businesses and leading large teams\, Najam highlights how meaningful relationships\, resilience\, and a service-oriented mindset drive personal and professional success. \nAttendees will gain practical insights into cultivating a winning mindset\, building authentic networks\, and leveraging connections to create opportunities\, impact communities\, and achieve long-term success. This event is free and open to the public. Refreshments will be served.
LOCATION:721 11th St S Moorhead MN
UID:e.4085.1439023
SEQUENCE:3
DTSTAMP:20260421T043702Z
URL:http://fargomoorheadwestfargochamberofcommercend.growthzoneapp.com/community-events-calendar/Details/the-7-habits-of-highly-connected-people-1703223?sourceTypeId=Hub
END:VEVENT
END:VCALENDAR
