BEGIN:VCALENDAR
VERSION:2.0
PRODID:-//ChamberMaster//Event Calendar 2.0//EN
METHOD:PUBLISH
X-PUBLISHED-TTL:P1H
REFRESH-INTERVAL:P1H
CALSCALE:GREGORIAN
BEGIN:VTIMEZONE
TZID:America/Chicago
BEGIN:DAYLIGHT
RRULE:FREQ=YEARLY;BYMONTH=3;BYDAY=2SU
DTSTART:20070101T000000
TZOFFSETFROM:-0600
TZOFFSETTO:-0500
TZNAME:Central Daylight Time
END:DAYLIGHT
BEGIN:STANDARD
RRULE:FREQ=YEARLY;BYMONTH=11;BYDAY=1SU
DTSTART:20070101T000000
TZOFFSETFROM:-0500
TZOFFSETTO:-0600
TZNAME:Central Standard Time
END:STANDARD
END:VTIMEZONE
BEGIN:VEVENT
DTSTART;TZID=America/Chicago:20260505T083000
DTEND;TZID=America/Chicago:20260505T163000
X-MICROSOFT-CDO-ALLDAYEVENT:FALSE
SUMMARY:Soul Shop
DESCRIPTION:It's estimated that one out of every two people in a given congregation has personally been affected by suicide. Soul Shop trains faith community leaders to offer support\, hope and connection to those in their congregations.Co-sponsored by the American Foundation for Suicide Prevention\, Soul Shop equips participants with the resources and guidance they need to foster hope and healing in their community.Who Should Attend?Faith-based leaders and anyone who feels CALLED to respond to suicidal desperation
X-ALT-DESC;FMTTYPE=text/html:<!DOCTYPE html><html><head><title></title></head><body aria-disabled="false"><p>It&rsquo\;s estimated that one out of every two people in a given congregation has personally been affected by suicide. Soul Shop trains faith community leaders to offer support\, hope and connection to those in their congregations.</p><p>Co-sponsored by the American Foundation for Suicide Prevention\, Soul Shop equips participants with the resources and guidance they need to foster hope and healing in their community.</p><p>Who Should Attend?</p><p>Faith-based leaders and anyone who feels CALLED to respond to suicidal desperation</p></body></html>
LOCATION:
UID:e.4085.1392059
SEQUENCE:3
DTSTAMP:20260421T045601Z
URL:http://fargomoorheadwestfargochamberofcommercend.growthzoneapp.com/community-events-calendar/Details/soul-shop-1644425?sourceTypeId=Hub
END:VEVENT
END:VCALENDAR
