BEGIN:VCALENDAR
VERSION:2.0
PRODID:-//ChamberMaster//Event Calendar 2.0//EN
METHOD:PUBLISH
X-PUBLISHED-TTL:P1H
REFRESH-INTERVAL:P1H
CALSCALE:GREGORIAN
BEGIN:VTIMEZONE
TZID:America/Chicago
BEGIN:DAYLIGHT
RRULE:FREQ=YEARLY;BYMONTH=3;BYDAY=2SU
DTSTART:20070101T000000
TZOFFSETFROM:-0600
TZOFFSETTO:-0500
TZNAME:Central Daylight Time
END:DAYLIGHT
BEGIN:STANDARD
RRULE:FREQ=YEARLY;BYMONTH=11;BYDAY=1SU
DTSTART:20070101T000000
TZOFFSETFROM:-0500
TZOFFSETTO:-0600
TZNAME:Central Standard Time
END:STANDARD
END:VTIMEZONE
BEGIN:VEVENT
DTSTART;TZID=America/Chicago:20260423T100000
DTEND;TZID=America/Chicago:20260425T170000
X-MICROSOFT-CDO-ALLDAYEVENT:FALSE
SUMMARY:Metro-Wide Used Book Store Crawl
DESCRIPTION:Join the Friends and celebrate National Library Week 2026 with a special Metro-Wide Used Book Sale Crawl! We are joining the Moorhead and West Fargo Friends organizations for this metro-wide event. This is a wonderful opportunity to browse and purchase gently used books\, CDs\, DVDs\, and other items. (Selection varies by location.)Dates and times:Fargo Public Library (all locations)Thursday\, April 23 | 10 a.m. - 7:30 p.m.Friday\, April 24 | 11 a.m. - 5:30 p.m.Saturday\, April 25 | 9 a.m. - 3 p.m. (bag sale)Moorhead Public Library (450 Center Ave.)Thursday\, April 23 | 5 p.m. - 8 p.m.Friday\, April 24 | 10 a.m. - 5 p.m.Saturday\, April 25 | 10 a.m. - 5 p.m.West Fargo Public Library (215 3 St. E.)Saturday\, April 25 | 10 a.m. - 3:30 p.m.\nPick up a Used Book Sale Crawl Punch Card at any location\, then complete the card by visiting one of three Fargo library locations\, the Moorhead library\, and the West Fargo library for a chance to win a gift card!
X-ALT-DESC;FMTTYPE=text/html:<!DOCTYPE html><html><head><title></title></head><body aria-disabled="false"><p style="margin-bottom:15.0pt\;line-height:19.4pt\;">Join the Friends and celebrate National Library Week 2026 with a special Metro-Wide Used Book Sale Crawl! We are joining the Moorhead and West Fargo Friends organizations for this metro-wide event. This is a wonderful opportunity to browse and purchase gently used books\, CDs\, DVDs\, and other items. <em>(Selection varies by location.)</em></p><p style="margin-bottom:0in\;line-height:19.4pt\;"><u>Dates and times:</u></p><p style="margin-top:0in\;margin-right:0in\;margin-bottom:0in\;  margin-left:47.25pt\;text-indent:-.25in\;line-height:19.4pt\;mso-list:l0 level1 lfo1\;  tab-stops:list .5in\;">Fargo Public Library (all locations)</p><p style="margin-top:0in\;margin-right:0in\;margin-bottom:0in\;  margin-left:94.5pt\;text-indent:-.25in\;line-height:19.4pt\;mso-list:l0 level2 lfo1\;  tab-stops:list 1.0in\;">Thursday\, April 23 | 10 a.m. - 7:30 p.m.</p><p style="margin-top:0in\;margin-right:0in\;margin-bottom:0in\;  margin-left:94.5pt\;text-indent:-.25in\;line-height:19.4pt\;mso-list:l0 level2 lfo1\;  tab-stops:list 1.0in\;">Friday\, April 24 | 11 a.m. - 5:30 p.m.</p><p style="margin-top:0in\;margin-right:0in\;margin-bottom:0in\;  margin-left:94.5pt\;text-indent:-.25in\;line-height:19.4pt\;mso-list:l0 level2 lfo1\;  tab-stops:list 1.0in\;">Saturday\, April 25 | 9 a.m. - 3 p.m. (bag sale)</p><p style="margin-top:0in\;margin-right:0in\;margin-bottom:0in\;  margin-left:47.25pt\;text-indent:-.25in\;line-height:19.4pt\;mso-list:l0 level1 lfo1\;  tab-stops:list .5in\;">Moorhead Public Library (450 Center Ave.)</p><p style="margin-top:0in\;margin-right:0in\;margin-bottom:0in\;  margin-left:94.5pt\;text-indent:-.25in\;line-height:19.4pt\;mso-list:l0 level2 lfo1\;  tab-stops:list 1.0in\;">Thursday\, April 23 | 5 p.m. - 8 p.m.</p><p style="margin-top:0in\;margin-right:0in\;margin-bottom:0in\;  margin-left:94.5pt\;text-indent:-.25in\;line-height:19.4pt\;mso-list:l0 level2 lfo1\;  tab-stops:list 1.0in\;">Friday\, April 24 | 10 a.m. - 5 p.m.</p><p style="margin-top:0in\;margin-right:0in\;margin-bottom:0in\;  margin-left:94.5pt\;text-indent:-.25in\;line-height:19.4pt\;mso-list:l0 level2 lfo1\;  tab-stops:list 1.0in\;">Saturday\, April 25 | 10 a.m. - 5 p.m.</p><p style="margin-top:0in\;margin-right:0in\;margin-bottom:0in\;  margin-left:47.25pt\;text-indent:-.25in\;line-height:19.4pt\;mso-list:l0 level1 lfo1\;  tab-stops:list .5in\;">West Fargo Public Library (215 3 St. E.)</p><p style="margin-top:0in\;margin-right:0in\;margin-bottom:0in\;  margin-left:94.5pt\;text-indent:-.25in\;line-height:19.4pt\;mso-list:l0 level2 lfo1\;  tab-stops:list 1.0in\;">Saturday\, April 25 | 10 a.m. - 3:30 p.m.</p><p style="margin-bottom:0in\;line-height:19.4pt\;"><br></p><p>Pick up a Used Book Sale Crawl Punch Card at any location\, then complete the card by visiting one of three Fargo library locations\, the Moorhead library\, and the West Fargo library for a chance to win a gift card!</p></body></html>
LOCATION:
UID:e.4085.1443352
SEQUENCE:3
DTSTAMP:20260421T044313Z
URL:http://fargomoorheadwestfargochamberofcommercend.growthzoneapp.com/community-events-calendar/Details/metro-wide-used-book-store-crawl-1709596?sourceTypeId=Hub
END:VEVENT
END:VCALENDAR
