BEGIN:VCALENDAR
VERSION:2.0
PRODID:-//ChamberMaster//Event Calendar 2.0//EN
METHOD:PUBLISH
X-PUBLISHED-TTL:P1H
REFRESH-INTERVAL:P1H
CALSCALE:GREGORIAN
BEGIN:VTIMEZONE
TZID:America/Chicago
BEGIN:DAYLIGHT
RRULE:FREQ=YEARLY;BYMONTH=3;BYDAY=2SU
DTSTART:20070101T000000
TZOFFSETFROM:-0600
TZOFFSETTO:-0500
TZNAME:Central Daylight Time
END:DAYLIGHT
BEGIN:STANDARD
RRULE:FREQ=YEARLY;BYMONTH=11;BYDAY=1SU
DTSTART:20070101T000000
TZOFFSETFROM:-0500
TZOFFSETTO:-0600
TZNAME:Central Standard Time
END:STANDARD
END:VTIMEZONE
BEGIN:VEVENT
DTSTART;TZID=America/Chicago:20260421T173000
DTEND;TZID=America/Chicago:20260421T190000
X-MICROSOFT-CDO-ALLDAYEVENT:FALSE
SUMMARY:Jason Riley | "The Affirmative Action Myth"
DESCRIPTION:NDSU's Challey Institute invites you to join us for a conversation with Jason Riley titled "The Affirmative Action Myth" on Tuesday\, April 21st. This event is free and open to all members of the NDSU community and the public. The talk will begin at 5:30 p.m. in the Louise Auditorium at NDSU's Barry Hall\, followed by an audience Q&A. All are invited to stay for a reception with hors d'oeuvres and refreshments at 7:00 p.m. Parking is available in the visitor parking lots which are free to use after 4:30 p.m.  While RSVPs are not required\, they are greatly appreciated and encouraged. To join us in person\, register at this link: https://www.eventbrite.com/e/jason-riley-the-affirmative-action-myth-tickets-1979795925909?utm-campaign=social&utm-content=attendeeshare&utm-medium=discovery&utm-term=listing&utm-source=cp&aff=ebdsshcopyurl
X-ALT-DESC;FMTTYPE=text/html:<!DOCTYPE html><html><head><title></title></head><body aria-disabled="false"><p>NDSU&#39\;s Challey Institute invites you to join us for a conversation with Jason Riley titled&nbsp\;&quot\;The Affirmative Action Myth&quot\;&nbsp\;on Tuesday\, April&nbsp\;21st. This event is free and open to all members of the NDSU community and the public. The talk will begin at 5:30&nbsp\;p.m. in the Louise Auditorium at NDSU&#39\;s Barry Hall\,&nbsp\;followed by an audience Q&amp\;A. All are invited to stay for a reception with hors d&#39\;oeuvres and refreshments at 7:00 p.m. Parking is available in the visitor parking lots which are free to use after 4:30 p.m.&nbsp\; While RSVPs are not required\, they are greatly appreciated and encouraged.&nbsp\;To join us in person\, register at this link: https://www.eventbrite.com/e/jason-riley-the-affirmative-action-myth-tickets-1979795925909?utm-campaign=social&amp\;utm-content=attendeeshare&amp\;utm-medium=discovery&amp\;utm-term=listing&amp\;utm-source=cp&amp\;aff=ebdsshcopyurl</p></body></html>
LOCATION:811 2nd Avenue North Fargo ND 58102
UID:e.4085.1439572
SEQUENCE:3
DTSTAMP:20260421T043703Z
URL:http://fargomoorheadwestfargochamberofcommercend.growthzoneapp.com/community-events-calendar/Details/jason-riley-the-affirmative-action-myth-1704103?sourceTypeId=Hub
END:VEVENT
END:VCALENDAR
