BEGIN:VCALENDAR
VERSION:2.0
PRODID:-//ChamberMaster//Event Calendar 2.0//EN
METHOD:PUBLISH
X-PUBLISHED-TTL:P1H
REFRESH-INTERVAL:P1H
CALSCALE:GREGORIAN
BEGIN:VTIMEZONE
TZID:America/Chicago
BEGIN:DAYLIGHT
RRULE:FREQ=YEARLY;BYMONTH=3;BYDAY=2SU
DTSTART:20070101T000000
TZOFFSETFROM:-0600
TZOFFSETTO:-0500
TZNAME:Central Daylight Time
END:DAYLIGHT
BEGIN:STANDARD
RRULE:FREQ=YEARLY;BYMONTH=11;BYDAY=1SU
DTSTART:20070101T000000
TZOFFSETFROM:-0500
TZOFFSETTO:-0600
TZNAME:Central Standard Time
END:STANDARD
END:VTIMEZONE
BEGIN:VEVENT
DTSTART;TZID=America/Chicago:20260524T100000
DTEND;TZID=America/Chicago:20260524T170000
X-MICROSOFT-CDO-ALLDAYEVENT:FALSE
SUMMARY:Centennial Celebration: Community Open House
DESCRIPTION:Fair Hills invites the community to kick-off our 100th Anniversary season on Pelican Lake. \nIncluded Activities & Events Resort Events start at 10am\; Soda Fountain\, Perch & Lobby open First 100 families (+ all brunch reservations) get a Fair Hills Centennial Swag Bag 10:30am-12pm: Scavenger Hunt (mainly for kids\, but all ages welcome!) 10:30am - 12pm: Golf Scramble on the Fair Hills Executive Course 12pm - 2pm: Petting Zoo 1:30pm - 3:30pm: Chair Massages available 1pm - 2:30pm: Waterslide on the Fair Hills golf course (150ft slide!) 1pm - 2:30pm: Closest to the Pin & Putting Contests 2:30pm: Ice Cream Social on the Deck with Pelican Pete 45 minute fishing excursions with Josh Nehk: starting at 11am\, every hour\, last one leaves at 3pm (reservations recommended) Open Amenities: Heated Outdoor Pool & Hot Tub\, Tennis\, Basketball\, Shuffleboard\, Sand Volleyball\, Playground\, Frisbee Golf\, Chalk Art\, Billiards\, Ping Pong\, Paddle Boats & Kayaks Changing rooms are available for convenience Drop-in BINGO in the Perch Photobooth in the Lobby throughout the day Yoga Clinics\, time TBD Two\, 45-minute\, Big Pelican Cruises\, 40 people each\, sign-up required. Times TBD. Historical Tour of Fair Hills\, led by Beth\, 4th generation owner - time TBD. 2:45pm: Dedication Ceremony 2:45pm: Raffle Drawings (all attendees get tickets) 3:00pm - 4:30pm: Live music by Tim Eggebratten Available for Purchase: 3 Brunch Seatings: 9:00am\, 10:30am & 12:00pm 12pm - 1:30pm: Lunch Special available for purchase on the Deck Drink Specials at the Perch (Bar & Coffee Shop) Join us for the whole weekend\, lakeside cabins are still available. Breakfast & Dinner inclusive packages are available. 4th Annual Pickleball Tournament All ages & abilities welcome Clinics on Saturday Tournament play on Sunday. Saturday & Sunday packages available\, or Tournament Only registration Registration discounts are available if you stay overnight at Fair Hills. Yoga clinics for all picklers Cocktail socials & awards will follow the tournament
X-ALT-DESC;FMTTYPE=text/html:<!DOCTYPE html><html><head><title></title></head><body aria-disabled="false"><p>Fair Hills invites the community to kick-off our 100th Anniversary season on Pelican Lake.&nbsp\;</p><p><br></p><p>Included Activities &amp\; Events&nbsp\;</p><ul fr-original-style="" style="list-style-position: inside\;"><li>Resort Events start at 10am\; Soda Fountain\, Perch &amp\; Lobby open&nbsp\;</li><li>First 100 families (+ all brunch reservations) get a Fair Hills Centennial Swag Bag&nbsp\;</li><li>10:30am-12pm: Scavenger Hunt (mainly for kids\, but all ages welcome!)&nbsp\;</li><li>10:30am - 12pm: Golf Scramble on the Fair Hills Executive Course&nbsp\;</li><li>12pm - 2pm: Petting Zoo&nbsp\;</li><li>1:30pm - 3:30pm: Chair Massages available&nbsp\;</li><li>1pm - 2:30pm: Waterslide on the Fair Hills golf course (150ft slide!)&nbsp\;</li><li>1pm - 2:30pm: Closest to the Pin &amp\; Putting Contests&nbsp\;</li><li>2:30pm: Ice Cream Social on the Deck with Pelican Pete&nbsp\;</li><li>45 minute fishing excursions with Josh Nehk: starting at 11am\, every hour\, last one leaves at 3pm (reservations recommended)&nbsp\;</li><li>Open Amenities: Heated Outdoor Pool &amp\; Hot Tub\, Tennis\, Basketball\, Shuffleboard\, Sand Volleyball\, Playground\, Frisbee Golf\, Chalk Art\, Billiards\, Ping Pong\, Paddle Boats &amp\; Kayaks&nbsp\;</li><li>Changing rooms are available for convenience&nbsp\;</li><li>Drop-in BINGO in the Perch&nbsp\;</li><li>Photobooth in the Lobby throughout the day&nbsp\;</li><li>Yoga Clinics\, time TBD&nbsp\;</li><li>Two\, 45-minute\, Big Pelican Cruises\, 40 people each\, sign-up required. Times TBD.&nbsp\;</li><li>Historical Tour of Fair Hills\, led by Beth\, 4th generation owner - time TBD.&nbsp\;</li><li>2:45pm: Dedication Ceremony&nbsp\;</li><li>2:45pm: Raffle Drawings (all attendees get tickets)&nbsp\;</li><li>3:00pm - 4:30pm: Live music by Tim Eggebratten&nbsp\;</li></ul><p>Available for Purchase:&nbsp\;</p><ul fr-original-style="" style="list-style-position: inside\;"><li>3 Brunch Seatings: 9:00am\, 10:30am &amp\; 12:00pm&nbsp\;</li><li>12pm - 1:30pm: Lunch Special available for purchase on the Deck&nbsp\;</li><li>Drink Specials at the Perch (Bar &amp\; Coffee Shop)&nbsp\;</li></ul><p>Join us for the whole weekend\, lakeside cabins are still available. Breakfast &amp\; Dinner inclusive packages are available.&nbsp\;</p><p>4th Annual Pickleball Tournament&nbsp\;</p><ul fr-original-style="" style="list-style-position: inside\;"><li>All ages &amp\; abilities welcome&nbsp\;</li><li>Clinics on Saturday T</li><li>ournament play on Sunday.&nbsp\;</li><li>Saturday &amp\; Sunday packages available\, or Tournament Only registration&nbsp\;</li><li>Registration discounts are available if you stay overnight at Fair Hills.&nbsp\;</li><li>Yoga clinics for all picklers&nbsp\;</li><li>Cocktail socials &amp\; awards will follow the tournament</li></ul></body></html>
LOCATION:24270 County Highway 20 Detroit Lakes MN 56501
UID:e.4085.1446582
SEQUENCE:3
DTSTAMP:20260421T044150Z
URL:http://fargomoorheadwestfargochamberofcommercend.growthzoneapp.com/community-events-calendar/Details/centennial-celebration-community-open-house-1713357?sourceTypeId=Hub
END:VEVENT
END:VCALENDAR
